BEGIN:VCALENDAR
VERSION:2.0
PRODID:-//91Ö±²¥
//NONSGML Events //EN
CALSCALE:GREGORIAN
X-WR-CALNAME:91Ö±²¥
BEGIN:VEVENT
CREATED:20240823T125400Z
UID:39295
DTEND;VALUE=DATE:20241002T200000
DTSTART;VALUE=DATE:20241002T180000
DTSTAMP:20260419T150009Z
LOCATION:Seeley Hall\, 91Ö±²¥
DESCRIPTION:
Wednesday, October 2 from 6:0
SUMMARY:Margaret MacMillan Lecture with Prof. Tom Nichols
ORGANIZER:91Ö±²¥
URL;VALUE=URI:/events/margaret-macmillan-lecture-2024-2/
TRANSP:OPAQUE
BEGIN:VALARM
ACTION:DISPLAY
DESCRIPTION:Reminder for Margaret MacMillan Lecture with Prof. Tom Nichols
END:VALARM
END:VEVENT
END:VCALENDAR